BEGIN:VCALENDAR
VERSION:2.0
PRODID:-//ChamberMaster//Event Calendar 2.0//EN
METHOD:PUBLISH
X-PUBLISHED-TTL:P3D
REFRESH-INTERVAL:P3D
CALSCALE:GREGORIAN
BEGIN:VEVENT
DTSTART:20191114T020000Z
DTEND:20191114T030000Z
X-MICROSOFT-CDO-ALLDAYEVENT:FALSE
SUMMARY:Information Meeting: B.A. Criminology
DESCRIPTION:Join Fresno Pacific University\, Visalia Campus for an information meeting to learn more about their B.A. Criminology program!
X-ALT-DESC;FMTTYPE=text/html:<p style="margin: 0px\; padding: 0px\; color: rgb(111\, 114\, 135)\; font-family: &quot\;Neue Plak&quot\;\, -apple-system\, BlinkMacSystemFont\, Roboto\, &quot\;Helvetica Neue&quot\;\, Helvetica\, Tahoma\, Arial\, sans-serif\; font-size: 14.9333px\; letter-spacing: 0.5px\;"><span style="color:#000000\;"><span style="font-size:12px\;">Join Fresno Pacific University\, Visalia Campus&nbsp\;for an information meeting to learn more about their&nbsp\;B.A. Criminology program! </span></span></p>\n
LOCATION:Fresno Pacific University\, Visalia Campus 245 N. Plaza Drive Visalia\, CA 93257
UID:e.2225.2077
SEQUENCE:3
DTSTAMP:20260421T015244Z
URL:https://business.portervillechamber.org/events/details/information-meeting-b-a-criminology-2077
END:VEVENT

END:VCALENDAR
