BEGIN:VCALENDAR
VERSION:2.0
PRODID:-//ChamberMaster//Event Calendar 2.0//EN
METHOD:PUBLISH
X-PUBLISHED-TTL:P3D
REFRESH-INTERVAL:P3D
CALSCALE:GREGORIAN
BEGIN:VEVENT
DTSTART:20180428T160000Z
DTEND:20180428T230000Z
X-MICROSOFT-CDO-ALLDAYEVENT:FALSE
SUMMARY:Iris Festival
DESCRIPTION:Come out and join us for a fun filled day-Downtown Main Street on April 28th. Small business stands\, local food\, artisans\, Chili Cook off. \n\n\n\nWould you like to participate in our event?\n\nIris Festival Booth Application\n\nChili Cook-Off Application
X-ALT-DESC;FMTTYPE=text/html:Come out and join us for a fun filled day-Downtown Main Street on April 28th. Small business stands\, local food\, artisans\, Chili Cook off.&nbsp\;<br />\n<br />\nWould you like to participate in our event?<br />\n<a href="https://chambermaster.blob.core.windows.net/userfiles/UserFiles/chambers/2225/File/IrisFestivalApplication2018.pdf" onclick="window.open(this.href\, ''\, 'resizable=no\,status=no\,location=no\,toolbar=no\,menubar=no\,fullscreen=no\,scrollbars=no\,dependent=no')\; return false\;">Iris Festival Booth Application</a><br />\n<a href="https://chambermaster.blob.core.windows.net/userfiles/UserFiles/chambers/2225/File/RegistrationForm.pdf" onclick="window.open(this.href\, ''\, 'resizable=no\,status=no\,location=no\,toolbar=no\,menubar=no\,fullscreen=no\,scrollbars=no\,dependent=no')\; return false\;">Chili Cook-Off Application</a>
LOCATION:Main Street Porterville\, CA 93257
UID:e.2225.1289
SEQUENCE:3
DTSTAMP:20260422T112952Z
URL:https://business.portervillechamber.org/events/details/iris-festival-04-28-2018-1289
END:VEVENT

END:VCALENDAR
