BEGIN:VCALENDAR
VERSION:2.0
PRODID:-//ChamberMaster//Event Calendar 2.0//EN
METHOD:PUBLISH
X-PUBLISHED-TTL:P3D
REFRESH-INTERVAL:P3D
CALSCALE:GREGORIAN
BEGIN:VEVENT
DTSTART:20190420T140000Z
DTEND:20190420T230000Z
X-MICROSOFT-CDO-ALLDAYEVENT:FALSE
SUMMARY:Jackass Mail Run
DESCRIPTION:Come on out and enjoy this once a year event\, where the past and the present collide. From the stomping and neighing of horses to the yells and calls of their riders the Jackass Mail Run is a true sight to behold.
X-ALT-DESC;FMTTYPE=text/html:Come on out and enjoy this once a year event\, where the past and the present collide. From the stomping and neighing of horses to the yells and calls of their riders the Jackass Mail Run is a true sight to behold.
LOCATION:The Jackass Mail Run will start in front of the old chamber building and end at the Springville Rodeo Grounds. Old Chamber Building - Orange Orange - Date Date - Success Valley Success Valley - Worth Worth - Success Market Success Market - Highway 190 Highway 190 - Antlers (Lunch) Antlers - Springville Rodeo Grounds Springville Rodeo Grounds - Springville Post Office
UID:e.2225.1893
SEQUENCE:3
DTSTAMP:20260421T140618Z
URL:https://business.portervillechamber.org/events/details/jackass-mail-run-1893
END:VEVENT

END:VCALENDAR
