BEGIN:VCALENDAR
VERSION:2.0
PRODID:-//ChamberMaster//Event Calendar 2.0//EN
METHOD:PUBLISH
X-PUBLISHED-TTL:P3D
REFRESH-INTERVAL:P3D
CALSCALE:GREGORIAN
BEGIN:VEVENT
DTSTART:20180502T160000Z
DTEND:20180502T200000Z
X-MICROSOFT-CDO-ALLDAYEVENT:FALSE
SUMMARY:Job Fair at Porterville College
DESCRIPTION:Porterville College's 6th Annual Job Fair
X-ALT-DESC;FMTTYPE=text/html:Porterville College&#39\;s 6th Annual Job Fair<br />\n&nbsp\;
LOCATION:100 E College Ave
UID:e.2225.1467
SEQUENCE:3
DTSTAMP:20260422T092746Z
URL:https://business.portervillechamber.org/events/details/job-fair-at-porterville-college-1467
END:VEVENT

END:VCALENDAR
