BEGIN:VCALENDAR
VERSION:2.0
PRODID:-//ChamberMaster//Event Calendar 2.0//EN
METHOD:PUBLISH
X-PUBLISHED-TTL:P3D
REFRESH-INTERVAL:P3D
CALSCALE:GREGORIAN
BEGIN:VEVENT
DTSTART:20190603T020000Z
DTEND:20190603T050000Z
X-MICROSOFT-CDO-ALLDAYEVENT:FALSE
SUMMARY:Jordan Feliz-The Changed Tour
DESCRIPTION:Jordan Feliz is an American Christian musician\, who plays a folk rock and soul style of Christian pop. He has released three studio albums\, Beloved in 2015\, The River in 2016\, with Centricity Music and Future in 2018. His song\, "The River"\, has charted on the Billboard magazine Christian Songs\, Christian Airplay\, and Christian Digital Songs charts. Come out for a night you won't forget!
X-ALT-DESC;FMTTYPE=text/html:Jordan Feliz is an American Christian musician\, who plays a folk rock and soul style of Christian pop. He has released three studio albums\, Beloved in 2015\, The River in 2016\, with Centricity Music and Future in 2018. His song\, &quot\;The River&quot\;\, has charted on the Billboard magazine Christian Songs\, Christian Airplay\, and Christian Digital Songs charts. Come out for a night you won&rsquo\;t forget!
LOCATION:Porterville Church of the Nazarene 2005 West Olive Avenue Porterville\, CA.
UID:e.2225.1951
SEQUENCE:3
DTSTAMP:20260421T110627Z
URL:https://business.portervillechamber.org/events/details/jordan-feliz-the-changed-tour-1951
END:VEVENT

END:VCALENDAR
