BEGIN:VCALENDAR
VERSION:2.0
PRODID:-//ChamberMaster//Event Calendar 2.0//EN
METHOD:PUBLISH
X-PUBLISHED-TTL:P3D
REFRESH-INTERVAL:P3D
CALSCALE:GREGORIAN
BEGIN:VEVENT
DTSTART:20191011T170000Z
DTEND:20191012T000000Z
X-MICROSOFT-CDO-ALLDAYEVENT:FALSE
SUMMARY:Judy Sarber Memorial Golf Tournament
DESCRIPTION:Join Habitat for Humanity of Tulare/Kings Counties for the Annual Judy Sarber Memorial Golf Tournament! This is a 4-person scramble style tournament\; with prizes awarded and hors d'ouevres served. Proceeds from this fun event benefit future Habitat projects in Porterville. Come swing a club for Habitat!
X-ALT-DESC;FMTTYPE=text/html:Join Habitat for Humanity of Tulare/Kings Counties for the Annual Judy Sarber Memorial Golf Tournament! This is a 4-person scramble style tournament\; with prizes awarded and hors d&#39\;ouevres served. Proceeds from this fun event benefit future Habitat projects in Porterville. Come swing a club for Habitat!
LOCATION:River Island Country Club 31989 River Island Dr. Porterville\, CA. 93257
UID:e.2225.1998
SEQUENCE:3
DTSTAMP:20260421T035333Z
URL:https://business.portervillechamber.org/events/details/judy-sarber-memorial-golf-tournament-10-11-2019-1998
END:VEVENT

END:VCALENDAR
