BEGIN:VCALENDAR
VERSION:2.0
PRODID:-//ChamberMaster//Event Calendar 2.0//EN
METHOD:PUBLISH
X-PUBLISHED-TTL:P3D
REFRESH-INTERVAL:P3D
CALSCALE:GREGORIAN
BEGIN:VEVENT
DTSTART:20180504T190000Z
DTEND:20180504T223000Z
X-MICROSOFT-CDO-ALLDAYEVENT:FALSE
SUMMARY:Kentucky Derby Luncheon
DESCRIPTION:Kentucky Derby Luncheon\n\nHorse Races\, Big Hat Contest and Raffle Prizes\n\nCall Wendy for tickets: 559-361-7063
X-ALT-DESC;FMTTYPE=text/html:Kentucky Derby Luncheon<br />\nHorse Races\, Big Hat Contest and Raffle Prizes<br />\nCall Wendy for tickets: 559-361-7063<br />\n&nbsp\;
LOCATION:Nuckols Ranch 13144 Road 216\, Porterville
UID:e.2225.1468
SEQUENCE:3
DTSTAMP:20260422T092053Z
URL:https://business.portervillechamber.org/events/details/kentucky-derby-luncheon-1468
END:VEVENT

END:VCALENDAR
