BEGIN:VCALENDAR
VERSION:2.0
PRODID:-//ChamberMaster//Event Calendar 2.0//EN
METHOD:PUBLISH
X-PUBLISHED-TTL:P3D
REFRESH-INTERVAL:P3D
CALSCALE:GREGORIAN
BEGIN:VEVENT
DTSTART;VALUE=DATE:20180331
DTEND;VALUE=DATE:20180401
TRANSP:TRANSPARENT
X-MICROSOFT-CDO-ALLDAYEVENT:TRUE
SUMMARY:Kids Fest
DESCRIPTION:Kids Fest & Egg Hunt\n\nAges 2-12
X-ALT-DESC;FMTTYPE=text/html:Kids Fest &amp\; Egg Hunt<br />\nAges 2-12
LOCATION:Sports Complex 2701 W. Scranton Ave
UID:e.2225.1432
SEQUENCE:3
DTSTAMP:20260422T131907Z
URL:https://business.portervillechamber.org/events/details/kids-fest-1432
END:VEVENT

END:VCALENDAR
