BEGIN:VCALENDAR
VERSION:2.0
PRODID:-//ChamberMaster//Event Calendar 2.0//EN
METHOD:PUBLISH
X-PUBLISHED-TTL:P3D
REFRESH-INTERVAL:P3D
CALSCALE:GREGORIAN
BEGIN:VEVENT
DTSTART:20180615T020000Z
DTEND:20180615T040000Z
X-MICROSOFT-CDO-ALLDAYEVENT:FALSE
SUMMARY:KJUG Free Concert Series
DESCRIPTION:KJUG Free Concert Series Featuring: James Barker Band
X-ALT-DESC;FMTTYPE=text/html:KJUG Free Concert Series Featuring: James Barker Band
LOCATION:Centennial Plaza Park 296 N. Main Street
UID:e.2225.1496
SEQUENCE:3
DTSTAMP:20260422T092501Z
URL:https://business.portervillechamber.org/events/details/kjug-free-concert-series-06-14-2018-1496
END:VEVENT

END:VCALENDAR
