BEGIN:VCALENDAR
VERSION:2.0
PRODID:-//ChamberMaster//Event Calendar 2.0//EN
METHOD:PUBLISH
X-PUBLISHED-TTL:P3D
REFRESH-INTERVAL:P3D
CALSCALE:GREGORIAN
BEGIN:VEVENT
DTSTART:20190427T170000Z
DTEND:20190429T020000Z
X-MICROSOFT-CDO-ALLDAYEVENT:FALSE
SUMMARY:Land Mark Christian Center - Generation Power Force
DESCRIPTION:
X-ALT-DESC;FMTTYPE=text/html:
LOCATION:Landmark Christian Center 2380 W. Olive Ave.
UID:e.2225.1881
SEQUENCE:3
DTSTAMP:20260421T141115Z
URL:https://business.portervillechamber.org/events/details/land-mark-christian-center-generation-power-force-1881
END:VEVENT

END:VCALENDAR
