BEGIN:VCALENDAR
VERSION:2.0
PRODID:-//ChamberMaster//Event Calendar 2.0//EN
METHOD:PUBLISH
X-PUBLISHED-TTL:P3D
REFRESH-INTERVAL:P3D
CALSCALE:GREGORIAN
BEGIN:VEVENT
DTSTART:20190324T170000Z
DTEND:20190326T010000Z
X-MICROSOFT-CDO-ALLDAYEVENT:FALSE
SUMMARY:Land Mark Christian Center - Joan Hunter Healing Crusade
DESCRIPTION:
X-ALT-DESC;FMTTYPE=text/html:
LOCATION:Land Mark Christian Center 2380 W. Olive Ave.
UID:e.2225.1880
SEQUENCE:3
DTSTAMP:20260421T155349Z
URL:https://business.portervillechamber.org/events/details/land-mark-christian-center-joan-hunter-healing-crusade-1880
END:VEVENT

END:VCALENDAR
