BEGIN:VCALENDAR
VERSION:2.0
PRODID:-//ChamberMaster//Event Calendar 2.0//EN
METHOD:PUBLISH
X-PUBLISHED-TTL:P3D
REFRESH-INTERVAL:P3D
CALSCALE:GREGORIAN
BEGIN:VEVENT
DTSTART:20190824T010000Z
DTEND:20190824T023000Z
X-MICROSOFT-CDO-ALLDAYEVENT:FALSE
SUMMARY:Leadership Porterville: The Class of 2020 Informational Meeting and Nominations
DESCRIPTION:If you are interested in applying for the Leadership Porterville Class of 2020\, Leadership Porterville will be holding an informational meeting on August 23rd. Come hear all the great opportunities our participants get to experience!
X-ALT-DESC;FMTTYPE=text/html:<span style="color: rgb(29\, 33\, 41)\; font-family: Helvetica\, Arial\, sans-serif\; font-size: 14px\; white-space: pre-wrap\;">If you are interested in applying for the Leadership Porterville Class of 2020\, Leadership Porterville will be holding an informational meeting on August 23rd. Come hear all the great opportunities our participants get to experience!</span>
LOCATION:Porterville Chamber of Commerce\, Conference Room 93 N. Main St. Porterville\, CA 93257
UID:e.2225.2009
SEQUENCE:3
DTSTAMP:20260421T094030Z
URL:https://business.portervillechamber.org/events/details/leadership-porterville-the-class-of-2020-informational-meeting-and-nominations-2009
END:VEVENT

END:VCALENDAR
