BEGIN:VCALENDAR
VERSION:2.0
PRODID:-//ChamberMaster//Event Calendar 2.0//EN
METHOD:PUBLISH
X-PUBLISHED-TTL:P3D
REFRESH-INTERVAL:P3D
CALSCALE:GREGORIAN
BEGIN:VEVENT
DTSTART:20181019T010000Z
DTEND:20181019T030000Z
X-MICROSOFT-CDO-ALLDAYEVENT:FALSE
SUMMARY:Let's Flamingle
DESCRIPTION:Join us for our Breast Cancer Awareness Event for an evening of food\, games\, vendors\, prizes\, giveaways\, and mammogram certificates.
X-ALT-DESC;FMTTYPE=text/html:Join us for our Breast Cancer Awareness Event for an evening of food\, games\, vendors\, prizes\, giveaways\, and mammogram certificates.
LOCATION:Sierra View Medical Center Courtyard 465 West Putnam Ave.
UID:e.2225.1819
SEQUENCE:3
DTSTAMP:20260422T021641Z
URL:https://business.portervillechamber.org/events/details/let-s-flamingle-1819
END:VEVENT

END:VCALENDAR
