BEGIN:VCALENDAR
VERSION:2.0
PRODID:-//ChamberMaster//Event Calendar 2.0//EN
METHOD:PUBLISH
X-PUBLISHED-TTL:P3D
REFRESH-INTERVAL:P3D
CALSCALE:GREGORIAN
BEGIN:VEVENT
DTSTART:20210417T153000Z
DTEND:20210417T190000Z
X-MICROSOFT-CDO-ALLDAYEVENT:FALSE
SUMMARY:LifeWALK
DESCRIPTION:FUN-FOR-ALL-AGES LifeWALK April 17th\, 9:00 a.m.\, Main street starting across from Redwood High School on the corner of Conyer/Main Street Registration begins 8:30am Walk registration is FREE but collecting pledges can win you lots of great prizes! And help support a GREAT cause! Event starts at 9:00am. $100.00+ in pledges earns a FREE T-Shirt Pledge forms may be obtained by calling 732-5000 or by e-mailing info@tkrl.org OR Register online at www.tkrl.org
X-ALT-DESC;FMTTYPE=text/html:FUN-FOR-ALL-AGES LifeWALK April 17th\, 9:00 a.m.\, Main street starting across from Redwood High School on the corner of Conyer/Main Street Registration begins 8:30am Walk registration is FREE but collecting pledges can win you lots of great prizes! And help support a GREAT cause! Event starts at 9:00am. $100.00+ in pledges earns a FREE T-Shirt Pledge forms may be obtained by calling 732-5000 or by e-mailing info@tkrl.org OR Register online at www.tkrl.org
LOCATION:Main Street Walk starts at Conyer/Main Street
UID:e.2225.2199
SEQUENCE:3
DTSTAMP:20260419T201447Z
URL:https://business.portervillechamber.org/events/details/lifewalk-04-17-2021-2199
END:VEVENT

END:VCALENDAR
