BEGIN:VCALENDAR
VERSION:2.0
PRODID:-//ChamberMaster//Event Calendar 2.0//EN
METHOD:PUBLISH
X-PUBLISHED-TTL:P3D
REFRESH-INTERVAL:P3D
CALSCALE:GREGORIAN
BEGIN:VEVENT
DTSTART:20180414T160000Z
DTEND:20180414T210000Z
X-MICROSOFT-CDO-ALLDAYEVENT:FALSE
SUMMARY:LifeWALK
DESCRIPTION:2018 #LifeWALK: A Fun FREE Event FOR ALL AGES! Hundreds to raise funds for Life! April 14th\, 9:00 a.m.\, Plaza Park in Visalia. Tulare-Kings Right to Life (TKRL) will host its 23rd Annual LifeWALK. Check in begins at 8:30am. The event starts at 9:00am. This is a FREE family-friendly event. This year's event will be as exciting as ever with music\, bounce houses\, and all your favorites: face painting\, games\, vendors\, and more! Grand Prize is a 7-Day Mexican Riviera Cruise for Two! Prizes will be awarded for several different categories of participants. Those raising $100.00 or more earn a FREE T-Shirt. Walkers of all ages and abilities\, from strollers to avid runners\, are invited to join us in this easy and invigorating spring outing. Pledge forms may be obtained by calling TKRL's office at (559) 732-5000 or by emailing us at info@tkrl.org. The support from our local walkers\, churches\, and faithful donors allows us to further spread the pro-life message each year through print/on-line media\, Kings & Tulare County Fairs\, educational displays at various events\, multiple speaking engagements\, a billboard campaign\, and our educational outreach programs: Latinos4Life\, The IRMA Network\, and Voices for Life.
X-ALT-DESC;FMTTYPE=text/html:2018 #LifeWALK: A Fun FREE Event FOR ALL AGES! Hundreds to raise funds for Life! April 14th\, 9:00 a.m.\, Plaza Park in Visalia. Tulare-Kings Right to Life (TKRL) will host its 23rd Annual LifeWALK. Check in begins at 8:30am. The event starts at 9:00am. This is a FREE family-friendly event. This year&rsquo\;s event will be as exciting as ever with music\, bounce houses\, and all your favorites: face painting\, games\, vendors\, and more! Grand Prize is a 7-Day Mexican Riviera Cruise for Two! Prizes will be awarded for several different categories of participants. Those raising $100.00 or more earn a FREE T-Shirt. Walkers of all ages and abilities\, from strollers to avid runners\, are invited to join us in this easy and invigorating spring outing. Pledge forms may be obtained by calling TKRL&rsquo\;s office at (559) 732-5000 or by emailing us at info@tkrl.org. The support from our local walkers\, churches\, and faithful donors allows us to further spread the pro-life message each year through print/on-line media\, Kings &amp\; Tulare County Fairs\, educational displays at various events\, multiple speaking engagements\, a billboard campaign\, and our educational outreach programs: Latinos4Life\, The IRMA Network\, and Voices for Life.
LOCATION:Plaza Park Visalia\, CA
UID:e.2225.1460
SEQUENCE:3
DTSTAMP:20260422T112814Z
URL:https://business.portervillechamber.org/events/details/lifewalk-1460
END:VEVENT

END:VCALENDAR
