BEGIN:VCALENDAR
VERSION:2.0
PRODID:-//ChamberMaster//Event Calendar 2.0//EN
METHOD:PUBLISH
X-PUBLISHED-TTL:P3D
REFRESH-INTERVAL:P3D
CALSCALE:GREGORIAN
BEGIN:VEVENT
DTSTART:20191217T180000Z
DTEND:20191217T180000Z
X-MICROSOFT-CDO-ALLDAYEVENT:FALSE
SUMMARY:Lion's Black Belt Academy Ribbon Cutting
DESCRIPTION:
X-ALT-DESC;FMTTYPE=text/html:
LOCATION:C.H.M.A. Community Center 466 E Putnam Porterville CA\, 93257
UID:e.2225.2099
SEQUENCE:3
DTSTAMP:20260421T001432Z
URL:https://business.portervillechamber.org/events/details/lion-s-black-belt-academy-ribbon-cutting-2099
END:VEVENT

END:VCALENDAR
