BEGIN:VCALENDAR
VERSION:2.0
PRODID:-//ChamberMaster//Event Calendar 2.0//EN
METHOD:PUBLISH
X-PUBLISHED-TTL:P3D
REFRESH-INTERVAL:P3D
CALSCALE:GREGORIAN
BEGIN:VEVENT
DTSTART:20200216T010000Z
DTEND:20200216T060000Z
X-MICROSOFT-CDO-ALLDAYEVENT:FALSE
SUMMARY:Love Is Art Gala
DESCRIPTION:The Porterville Art Association presents the "Love Is Art Gala" on Saturday\, February 15th from 5:00-10:00 p.m. Visit and enjoy the buffet\, silent auction\, improv entertainment\, live performers\, open mic\, photo booth\, and unlimited coffee.\n \n\nTickets are available from the Gallery\, Peggy Woods\, and Committee Members. For more information\, contact Peggy Woods at 559-920-5650 and 559-781-1793.\n \n\nFor participation with your Act\, call Courtney Gillespie at 559-360-3789 or 559-779-8253
X-ALT-DESC;FMTTYPE=text/html:<p dir="ltr" style="line-height:1.38\;margin-top:0pt\;margin-bottom:0pt\;"><span id="docs-internal-guid-f49f7394-7fff-c449-f295-0a3bc6d4fb6a"><span style="font-size: 11pt\; font-family: Arial\; color: rgb(0\, 0\, 0)\; background-color: transparent\; font-variant-numeric: normal\; font-variant-east-asian: normal\; vertical-align: baseline\; white-space: pre-wrap\;">The Porterville Art Association presents the &ldquo\;Love Is Art Gala&rdquo\; on Saturday\, February 15th from 5:00-10:00 p.m. Visit and enjoy the buffet\, silent auction\, improv entertainment\, live performers\, open mic\, photo booth\, and u</span></span><span id="docs-internal-guid-f49f7394-7fff-c449-f295-0a3bc6d4fb6a"><span style="font-size: 11pt\; font-family: Arial\; color: rgb(0\, 0\, 0)\; background-color: transparent\; font-variant-numeric: normal\; font-variant-east-asian: normal\; vertical-align: baseline\; white-space: pre-wrap\;">nlimited coffee.</span></span></p>\n&nbsp\;\n\n<p dir="ltr" style="line-height:1.38\;margin-top:0pt\;margin-bottom:0pt\;"><span id="docs-internal-guid-f49f7394-7fff-c449-f295-0a3bc6d4fb6a"><span style="font-size: 11pt\; font-family: Arial\; color: rgb(0\, 0\, 0)\; background-color: transparent\; font-variant-numeric: normal\; font-variant-east-asian: normal\; vertical-align: baseline\; white-space: pre-wrap\;">Tickets are available from the Gallery\, Peggy Woods\, and Committee Members. For more information\, contact Peggy Woods at 559-920-5650 and 559-781-1793.</span></span></p>\n&nbsp\;\n\n<p dir="ltr" style="line-height:1.38\;margin-top:0pt\;margin-bottom:0pt\;"><span id="docs-internal-guid-f49f7394-7fff-c449-f295-0a3bc6d4fb6a"><span style="font-size: 11pt\; font-family: Arial\; color: rgb(0\, 0\, 0)\; background-color: transparent\; font-variant-numeric: normal\; font-variant-east-asian: normal\; vertical-align: baseline\; white-space: pre-wrap\;">For participation with your Act\, call Courtney Gillespie at 559-360-3789 or 559-779-8253</span></span></p>\n
LOCATION:Elk's Lodge 386 N. Main Street Porterville\, CA 93257
UID:e.2225.2111
SEQUENCE:3
DTSTAMP:20260420T202546Z
URL:https://business.portervillechamber.org/events/details/love-is-art-gala-2111
END:VEVENT

END:VCALENDAR
