BEGIN:VCALENDAR
VERSION:2.0
PRODID:-//ChamberMaster//Event Calendar 2.0//EN
METHOD:PUBLISH
X-PUBLISHED-TTL:P3D
REFRESH-INTERVAL:P3D
CALSCALE:GREGORIAN
BEGIN:VEVENT
DTSTART:20200214T200000Z
DTEND:20200214T210000Z
X-MICROSOFT-CDO-ALLDAYEVENT:FALSE
SUMMARY:Love Yourself Luncheon
DESCRIPTION:Come join The Porterville Wellness Center foran elegant 4-course meal and raffles. Seating is limited\, so all attendees should arrive on time for the full dining experience! This event is for those 18+.\n\nFor more information\, please call the Center at (559) 256-1183.
X-ALT-DESC;FMTTYPE=text/html:<p dir="ltr" style="line-height:1.38\;margin-top:0pt\;margin-bottom:0pt\;"><span id="docs-internal-guid-0a46e8fd-7fff-dcc3-0c2a-7de3110b7349"><span style="font-size: 11pt\; font-family: Arial\; color: rgb(0\, 0\, 0)\; background-color: transparent\; font-variant-numeric: normal\; font-variant-east-asian: normal\; vertical-align: baseline\; white-space: pre-wrap\;">Come join The Porterville Wellness Center foran elegant 4-course meal and raffles. Seating is limited\, so all attendees should arrive on time for the full dining experience! This event is for those 18+.</span></span><br />\n<span id="docs-internal-guid-19e9fd42-7fff-71e7-ea1f-a54a8329e06b"><span style="font-size: 11pt\; font-family: Arial\; color: rgb(0\, 0\, 0)\; background-color: transparent\; font-variant-numeric: normal\; font-variant-east-asian: normal\; vertical-align: baseline\; white-space: pre-wrap\;">For more information\, please call the Center at (559) 256-1183.</span></span></p>\n
LOCATION:The Porterville Wellness Center 333 W. Henderson Avenue Porterville\, CA 93257
UID:e.2225.2129
SEQUENCE:3
DTSTAMP:20260420T203502Z
URL:https://business.portervillechamber.org/events/details/love-yourself-luncheon-2129
END:VEVENT

END:VCALENDAR
