BEGIN:VCALENDAR
VERSION:2.0
PRODID:-//ChamberMaster//Event Calendar 2.0//EN
METHOD:PUBLISH
X-PUBLISHED-TTL:P3D
REFRESH-INTERVAL:P3D
CALSCALE:GREGORIAN
BEGIN:VEVENT
DTSTART:20170808T170000Z
DTEND:20170808T190000Z
X-MICROSOFT-CDO-ALLDAYEVENT:FALSE
SUMMARY:Mad for Bagels Ribbon Cutting
DESCRIPTION:Mad for Bagels Ribbon Cutting
X-ALT-DESC;FMTTYPE=text/html:Mad for Bagels Ribbon Cutting
LOCATION:58 E Mill Ave. Porterville CA 93257
UID:e.2225.1235
SEQUENCE:3
DTSTAMP:20260423T013241Z
URL:https://business.portervillechamber.org/events/details/mad-for-bagels-ribbon-cutting-1235
END:VEVENT

END:VCALENDAR
