BEGIN:VCALENDAR
VERSION:2.0
PRODID:-//ChamberMaster//Event Calendar 2.0//EN
METHOD:PUBLISH
X-PUBLISHED-TTL:P3D
REFRESH-INTERVAL:P3D
CALSCALE:GREGORIAN
BEGIN:VEVENT
DTSTART;VALUE=DATE:20180429
DTEND;VALUE=DATE:20180430
TRANSP:TRANSPARENT
X-MICROSOFT-CDO-ALLDAYEVENT:TRUE
SUMMARY:MAMMA MIA!
DESCRIPTION:The Volunteer League with Hanson Travel is proud to present: MAMMA MIA!\n\nat Rodger Rocka's Dinner Theatre. \n\nFun games and prizes will also take place on the bus. \n\nPurchase your tickets at Hanson Travel - 311 North Second Street\, Suite C\n\nor call 559-784-2240\n\nAll monies due no later than March 29th -Cash or Checks
X-ALT-DESC;FMTTYPE=text/html:The Volunteer League with Hanson Travel is proud to present: MAMMA MIA!<br />\nat Rodger Rocka&#39\;s&nbsp\;Dinner Theatre.&nbsp\;<br />\nFun games and prizes will also take place on the bus.&nbsp\;<br />\nPurchase your tickets at Hanson Travel - 311 North Second Street\, Suite C<br />\nor call 559-784-2240<br />\nAll monies due no later than March 29th -Cash or Checks
LOCATION:Place of Departure: 465 W Putnam Ave\, Porterville
UID:e.2225.1465
SEQUENCE:3
DTSTAMP:20260422T112916Z
URL:https://business.portervillechamber.org/events/details/mamma-mia-1465
END:VEVENT

END:VCALENDAR
