BEGIN:VCALENDAR
VERSION:2.0
PRODID:-//ChamberMaster//Event Calendar 2.0//EN
METHOD:PUBLISH
X-PUBLISHED-TTL:P3D
REFRESH-INTERVAL:P3D
CALSCALE:GREGORIAN
BEGIN:VEVENT
DTSTART:20180317T133000Z
DTEND:20180317T203000Z
X-MICROSOFT-CDO-ALLDAYEVENT:FALSE
SUMMARY:Man Alive Christian Men's Conference
DESCRIPTION:Jon Micah is the lead singer and primary song writer of the Christian rock band\, Kutless.  Join us as Jon inspires us through his thought provoking journey through life as front-man for KUTLESS and challenge men both young and old to step up and both lead and love well\, resulting in a legacy that will continue to impact generations to come.
X-ALT-DESC;FMTTYPE=text/html:Jon Micah is the lead singer and primary song writer of the Christian rock band\, Kutless.&nbsp\; Join us as Jon inspires us through his thought provoking journey through life as front-man for KUTLESS and challenge men both young and old to step up and both lead and love well\, resulting in a legacy that will continue to impact generations to come.&nbsp\;
LOCATION:PortNaz 2005 W Olive Ave Porterville CA 93257
UID:e.2225.1440
SEQUENCE:3
DTSTAMP:20260422T144951Z
URL:https://business.portervillechamber.org/events/details/man-alive-christian-men-s-conference-1440
END:VEVENT

END:VCALENDAR
