BEGIN:VCALENDAR
VERSION:2.0
PRODID:-//ChamberMaster//Event Calendar 2.0//EN
METHOD:PUBLISH
X-PUBLISHED-TTL:P3D
REFRESH-INTERVAL:P3D
CALSCALE:GREGORIAN
BEGIN:VEVENT
DTSTART:20190301T010000Z
DTEND:20190301T060000Z
X-MICROSOFT-CDO-ALLDAYEVENT:FALSE
SUMMARY:Mardi Gras Casino Night - Eagle Mountain Casino
DESCRIPTION:Knights of Columbus invite you to a Mardi Gras Casino Night at Eagle Mountain Casino.
X-ALT-DESC;FMTTYPE=text/html:Knights of Columbus invite you to a Mardi Gras Casino Night at Eagle Mountain Casino.
LOCATION:Meet at Giovanni Pizzeria & Arcade 45 N. @nd St.\, Porterville CA
UID:e.2225.1874
SEQUENCE:3
DTSTAMP:20260421T174038Z
URL:https://business.portervillechamber.org/events/details/mardi-gras-casino-night-eagle-mountain-casino-1874
END:VEVENT

END:VCALENDAR
