BEGIN:VCALENDAR
VERSION:2.0
PRODID:-//ChamberMaster//Event Calendar 2.0//EN
METHOD:PUBLISH
X-PUBLISHED-TTL:P3D
REFRESH-INTERVAL:P3D
CALSCALE:GREGORIAN
BEGIN:VEVENT
DTSTART;VALUE=DATE:20190121
DTEND;VALUE=DATE:20190122
TRANSP:TRANSPARENT
X-MICROSOFT-CDO-ALLDAYEVENT:TRUE
SUMMARY:Martin Luther King Jr Day - Chamber Closed
DESCRIPTION:The Porterville Chamber of Commerce will be closed Monday January 21\, 2019
X-ALT-DESC;FMTTYPE=text/html:The Porterville Chamber of Commerce will be closed Monday January 21\, 2019
LOCATION:
UID:e.2225.1854
SEQUENCE:3
DTSTAMP:20260421T211634Z
URL:https://business.portervillechamber.org/events/details/martin-luther-king-jr-day-chamber-closed-1854
END:VEVENT

END:VCALENDAR
