BEGIN:VCALENDAR
VERSION:2.0
PRODID:-//ChamberMaster//Event Calendar 2.0//EN
METHOD:PUBLISH
X-PUBLISHED-TTL:P3D
REFRESH-INTERVAL:P3D
CALSCALE:GREGORIAN
BEGIN:VEVENT
DTSTART:20190228T190000Z
DTEND:20190228T200000Z
X-MICROSOFT-CDO-ALLDAYEVENT:FALSE
SUMMARY:Mobile Office
DESCRIPTION:
X-ALT-DESC;FMTTYPE=text/html:
LOCATION:Porterville Chamber of Commerce 93 N. Main St. Suit A
UID:e.2225.1885
SEQUENCE:3
DTSTAMP:20260421T173725Z
URL:https://business.portervillechamber.org/events/details/mobile-office-1885
END:VEVENT

END:VCALENDAR
