BEGIN:VCALENDAR
VERSION:2.0
PRODID:-//ChamberMaster//Event Calendar 2.0//EN
METHOD:PUBLISH
X-PUBLISHED-TTL:P3D
REFRESH-INTERVAL:P3D
CALSCALE:GREGORIAN
BEGIN:VEVENT
DTSTART:20190921T150000Z
DTEND:20190921T220000Z
X-MICROSOFT-CDO-ALLDAYEVENT:FALSE
SUMMARY:Museum Day & Peddlers' Fair
DESCRIPTION:
X-ALT-DESC;FMTTYPE=text/html:
LOCATION:257 N. D Street\, Porterville\, CA 93257
UID:e.2225.2045
SEQUENCE:3
DTSTAMP:20260421T054311Z
URL:https://business.portervillechamber.org/events/details/museum-day-peddlers-fair-2045
END:VEVENT

END:VCALENDAR
