BEGIN:VCALENDAR
VERSION:2.0
PRODID:-//ChamberMaster//Event Calendar 2.0//EN
METHOD:PUBLISH
X-PUBLISHED-TTL:P3D
REFRESH-INTERVAL:P3D
CALSCALE:GREGORIAN
BEGIN:VEVENT
DTSTART:20190907T010000Z
DTEND:20190907T040000Z
X-MICROSOFT-CDO-ALLDAYEVENT:FALSE
SUMMARY:Music and Market on Main with Praise and Company
DESCRIPTION:
X-ALT-DESC;FMTTYPE=text/html:
LOCATION:Centennial Park
UID:e.2225.1914
SEQUENCE:3
DTSTAMP:20260421T054730Z
URL:https://business.portervillechamber.org/events/details/music-and-market-on-main-with-praise-and-company-1914
END:VEVENT

END:VCALENDAR
