BEGIN:VCALENDAR
VERSION:2.0
PRODID:-//ChamberMaster//Event Calendar 2.0//EN
METHOD:PUBLISH
X-PUBLISHED-TTL:P3D
REFRESH-INTERVAL:P3D
CALSCALE:GREGORIAN
BEGIN:VEVENT
DTSTART:20190622T010000Z
DTEND:20190622T030000Z
X-MICROSOFT-CDO-ALLDAYEVENT:FALSE
SUMMARY:Music on Main featuring Nazarene Lighthouse
DESCRIPTION:
X-ALT-DESC;FMTTYPE=text/html:
LOCATION:Centennial Park
UID:e.2225.1912
SEQUENCE:3
DTSTAMP:20260421T124413Z
URL:https://business.portervillechamber.org/events/details/music-on-main-featuring-nazarene-lighthouse-1912
END:VEVENT

END:VCALENDAR
