BEGIN:VCALENDAR
VERSION:2.0
PRODID:-//ChamberMaster//Event Calendar 2.0//EN
METHOD:PUBLISH
X-PUBLISHED-TTL:P3D
REFRESH-INTERVAL:P3D
CALSCALE:GREGORIAN
BEGIN:VEVENT
DTSTART:20180929T010000Z
DTEND:20180929T030000Z
X-MICROSOFT-CDO-ALLDAYEVENT:FALSE
SUMMARY:Music on Main Street
DESCRIPTION:Music on Main Street
X-ALT-DESC;FMTTYPE=text/html:Music on Main Street
LOCATION:Downtown Porterville\, Centennial Park
UID:e.2225.1782
SEQUENCE:3
DTSTAMP:20260422T022716Z
URL:https://business.portervillechamber.org/events/details/music-on-main-street-09-28-2018-1782
END:VEVENT

END:VCALENDAR
