BEGIN:VCALENDAR
VERSION:2.0
PRODID:-//ChamberMaster//Event Calendar 2.0//EN
METHOD:PUBLISH
X-PUBLISHED-TTL:P3D
REFRESH-INTERVAL:P3D
CALSCALE:GREGORIAN
BEGIN:VEVENT
DTSTART:20180421T010000Z
DTEND:20180421T030000Z
X-MICROSOFT-CDO-ALLDAYEVENT:FALSE
SUMMARY:Music on Main Street Featuring Crack O Dawn Line Dancers
DESCRIPTION:Come join us for an evening of Dancing and Music on Main Street\, Featuring Crack O Dawn Country Line Dancers
X-ALT-DESC;FMTTYPE=text/html:Come join us for an evening of Dancing and Music on Main Street\, Featuring Crack O Dawn Country Line Dancers
LOCATION:Downtown Main Street at Centennial Park
UID:e.2225.1472
SEQUENCE:3
DTSTAMP:20260422T114350Z
URL:https://business.portervillechamber.org/events/details/music-on-main-street-featuring-crack-o-dawn-line-dancers-1472
END:VEVENT

END:VCALENDAR
