BEGIN:VCALENDAR
VERSION:2.0
PRODID:-//ChamberMaster//Event Calendar 2.0//EN
METHOD:PUBLISH
X-PUBLISHED-TTL:P3D
REFRESH-INTERVAL:P3D
CALSCALE:GREGORIAN
BEGIN:VEVENT
DTSTART:20180609T010000Z
DTEND:20180609T030000Z
X-MICROSOFT-CDO-ALLDAYEVENT:FALSE
SUMMARY:Music on Main Street Featuring DJ Davis
DESCRIPTION:Come join us for an evening of Music on Main Street\, Featuring DJ Davis
X-ALT-DESC;FMTTYPE=text/html:Come join us for an evening of Music on Main Street\, Featuring DJ Davis
LOCATION:Downtown Main Street at Centennial Park
UID:e.2225.1480
SEQUENCE:3
DTSTAMP:20260422T073337Z
URL:https://business.portervillechamber.org/events/details/music-on-main-street-featuring-dj-davis-1480
END:VEVENT

END:VCALENDAR
