BEGIN:VCALENDAR
VERSION:2.0
PRODID:-//ChamberMaster//Event Calendar 2.0//EN
METHOD:PUBLISH
X-PUBLISHED-TTL:P3D
REFRESH-INTERVAL:P3D
CALSCALE:GREGORIAN
BEGIN:VEVENT
DTSTART:20180519T010000Z
DTEND:20180519T030000Z
X-MICROSOFT-CDO-ALLDAYEVENT:FALSE
SUMMARY:Music on Main Street Featuring Duggin's Citrus Express
DESCRIPTION:Come join us for an evening of Music on Main Street\, Featuring Duggins' Citrus Express
X-ALT-DESC;FMTTYPE=text/html:Come join us for an evening of Music on Main Street\, Featuring Duggins&#39\; Citrus Express
LOCATION:Downtown Main Street at Centennial Park
UID:e.2225.1476
SEQUENCE:3
DTSTAMP:20260422T113338Z
URL:https://business.portervillechamber.org/events/details/music-on-main-street-featuring-duggin-s-citrus-express-1476
END:VEVENT

END:VCALENDAR
