BEGIN:VCALENDAR
VERSION:2.0
PRODID:-//ChamberMaster//Event Calendar 2.0//EN
METHOD:PUBLISH
X-PUBLISHED-TTL:P3D
REFRESH-INTERVAL:P3D
CALSCALE:GREGORIAN
BEGIN:VEVENT
DTSTART:20180407T010000Z
DTEND:20180407T030000Z
X-MICROSOFT-CDO-ALLDAYEVENT:FALSE
SUMMARY:Music on Main Street Featuring Monache Stage Band
DESCRIPTION:Come join us for an evening of Music on Main Street\, Featuring the Monache Stage Band
X-ALT-DESC;FMTTYPE=text/html:Come join us for an evening of Music on Main Street\, Featuring the Monache Stage Band
LOCATION:Downtown Porterville at Centennial Park
UID:e.2225.1470
SEQUENCE:3
DTSTAMP:20260422T113132Z
URL:https://business.portervillechamber.org/events/details/music-on-main-street-featuring-monache-stage-band-1470
END:VEVENT

END:VCALENDAR
