BEGIN:VCALENDAR
VERSION:2.0
PRODID:-//ChamberMaster//Event Calendar 2.0//EN
METHOD:PUBLISH
X-PUBLISHED-TTL:P3D
REFRESH-INTERVAL:P3D
CALSCALE:GREGORIAN
BEGIN:VEVENT
DTSTART:20180623T010000Z
DTEND:20180623T030000Z
X-MICROSOFT-CDO-ALLDAYEVENT:FALSE
SUMMARY:Music on Main Street Featuring Nazarene Lighthouse
DESCRIPTION:Come join us for an evening of Music on Main Street\, Featuring Nazarene Lighthouse
X-ALT-DESC;FMTTYPE=text/html:Come join us for an evening of Music on Main Street\, Featuring Nazarene Lighthouse
LOCATION:Downtown Main Street at Centennial Park
UID:e.2225.1482
SEQUENCE:3
DTSTAMP:20260422T073434Z
URL:https://business.portervillechamber.org/events/details/music-on-main-street-featuring-nazarene-lighthouse-1482
END:VEVENT

END:VCALENDAR
