BEGIN:VCALENDAR
VERSION:2.0
PRODID:-//ChamberMaster//Event Calendar 2.0//EN
METHOD:PUBLISH
X-PUBLISHED-TTL:P3D
REFRESH-INTERVAL:P3D
CALSCALE:GREGORIAN
BEGIN:VEVENT
DTSTART:20180602T010000Z
DTEND:20180602T030000Z
X-MICROSOFT-CDO-ALLDAYEVENT:FALSE
SUMMARY:Music on Main Street Featuring Pioneer Jazz Band
DESCRIPTION:Come join us for an evening of Music on Main Street\, Featuring the Pioneer Jazz Band
X-ALT-DESC;FMTTYPE=text/html:Come join us for an evening of Music on Main Street\, Featuring the Pioneer Jazz Band
LOCATION:Downtown Main Street at Centennial Park
UID:e.2225.1479
SEQUENCE:3
DTSTAMP:20260422T073448Z
URL:https://business.portervillechamber.org/events/details/music-on-main-street-featuring-pioneer-jazz-band-1479
END:VEVENT

END:VCALENDAR
