BEGIN:VCALENDAR
VERSION:2.0
PRODID:-//ChamberMaster//Event Calendar 2.0//EN
METHOD:PUBLISH
X-PUBLISHED-TTL:P3D
REFRESH-INTERVAL:P3D
CALSCALE:GREGORIAN
BEGIN:VEVENT
DTSTART:20180616T010000Z
DTEND:20180616T030000Z
X-MICROSOFT-CDO-ALLDAYEVENT:FALSE
SUMMARY:Music on Main Street Featuring The Swingshift Band
DESCRIPTION:Come join us for an evening of Music on Main Street\, Featuring The Swingshift Band
X-ALT-DESC;FMTTYPE=text/html:Come join us for an evening of Music on Main Street\, Featuring The Swingshift Band
LOCATION:Downtown Main Street at Centennial Park
UID:e.2225.1481
SEQUENCE:3
DTSTAMP:20260422T073507Z
URL:https://business.portervillechamber.org/events/details/music-on-main-street-featuring-the-swingshift-band-1481
END:VEVENT

END:VCALENDAR
