BEGIN:VCALENDAR
VERSION:2.0
PRODID:-//ChamberMaster//Event Calendar 2.0//EN
METHOD:PUBLISH
X-PUBLISHED-TTL:P3D
REFRESH-INTERVAL:P3D
CALSCALE:GREGORIAN
BEGIN:VEVENT
DTSTART:20190807T180000Z
DTEND:20190807T200000Z
X-MICROSOFT-CDO-ALLDAYEVENT:FALSE
SUMMARY:My "Lunch" Depends on AG\, BBQ Drive Thru
DESCRIPTION:FREE LUNCH\n\n"Our lunch depends on agriculture\, and this time... lunch is on us! Join GAR at Evans Feed & Livestock Supply on August 7th for our "My Lunch Depends on Ag" FREE BBQ Drive Thru series! Drive through for your FREE BBQ sandwich and FREE MJDOA yard sign. Decals will be available for $5 donation. 100% of all proceeds go toward agriculture scholarships."
X-ALT-DESC;FMTTYPE=text/html:FREE LUNCH<br />\n&quot\;Our lunch depends on agriculture\, and this time... lunch is on us! Join GAR at Evans Feed &amp\; Livestock Supply on August 7th for our &quot\;My Lunch Depends on Ag&quot\; FREE BBQ Drive Thru series! Drive through for your FREE BBQ sandwich and FREE MJDOA yard sign. Decals will be available for $5 donation. 100% of all proceeds go toward agriculture scholarships.&quot\;&nbsp\;<br />\n<br />\n&nbsp\;
LOCATION:Evans Feed & Livestock Supply 79 W Orange Ave\, Porterville\, CA 93257
UID:e.2225.1997
SEQUENCE:3
DTSTAMP:20260421T073029Z
URL:https://business.portervillechamber.org/events/details/my-lunch-depends-on-ag-bbq-drive-thru-1997
END:VEVENT

END:VCALENDAR
