BEGIN:VCALENDAR
VERSION:2.0
PRODID:-//ChamberMaster//Event Calendar 2.0//EN
METHOD:PUBLISH
X-PUBLISHED-TTL:P3D
REFRESH-INTERVAL:P3D
CALSCALE:GREGORIAN
BEGIN:VEVENT
DTSTART:20181205T030000Z
DTEND:20181205T043000Z
X-MICROSOFT-CDO-ALLDAYEVENT:FALSE
SUMMARY:Myer's Christmas Tree Lighting
DESCRIPTION:
X-ALT-DESC;FMTTYPE=text/html:
LOCATION:Myers Funeral Service and Crematory 248 North "E" Street
UID:e.2225.1842
SEQUENCE:3
DTSTAMP:20260421T211103Z
URL:https://business.portervillechamber.org/events/details/myer-s-christmas-tree-lighting-1842
END:VEVENT

END:VCALENDAR
