BEGIN:VCALENDAR
VERSION:2.0
PRODID:-//ChamberMaster//Event Calendar 2.0//EN
METHOD:PUBLISH
X-PUBLISHED-TTL:P3D
REFRESH-INTERVAL:P3D
CALSCALE:GREGORIAN
BEGIN:VEVENT
DTSTART:20171206T030000Z
DTEND:20171206T040000Z
X-MICROSOFT-CDO-ALLDAYEVENT:FALSE
SUMMARY:Myers Chapel Funeral Home
DESCRIPTION:Christmas Memorial Service for Ornament Hanging
X-ALT-DESC;FMTTYPE=text/html:Christmas Memorial Service for Ornament Hanging
LOCATION:Myers Chapel 248 North E Street Porterville CA 93257
UID:e.2225.1239
SEQUENCE:3
DTSTAMP:20260422T200202Z
URL:https://business.portervillechamber.org/events/details/myers-chapel-funeral-home-1239
END:VEVENT

END:VCALENDAR
