BEGIN:VCALENDAR
VERSION:2.0
PRODID:-//ChamberMaster//Event Calendar 2.0//EN
METHOD:PUBLISH
X-PUBLISHED-TTL:P3D
REFRESH-INTERVAL:P3D
CALSCALE:GREGORIAN
BEGIN:VEVENT
DTSTART:20181117T170000Z
DTEND:20181118T000000Z
X-MICROSOFT-CDO-ALLDAYEVENT:FALSE
SUMMARY:Nasty Habitz Car & Bike Show Toy Fundraiser
DESCRIPTION:Toys for Tots and Nasty Habits Car & Bike Show Toy Fundraiser - \n\nInfo Booths\, Vendors and Food\n\nPrizes for Participants & Drawing for Prizes\n\n\n\nBring a Toy to Participate!
X-ALT-DESC;FMTTYPE=text/html:Toys for Tots and Nasty Habits Car &amp\; Bike Show Toy Fundraiser -&nbsp\;<br />\nInfo Booths\, Vendors and Food<br />\nPrizes for Participants &amp\; Drawing for Prizes<br />\n<br />\nBring a Toy to Participate!&nbsp\;
LOCATION:Pizza Factory 897 W. Henderson
UID:e.2225.1458
SEQUENCE:3
DTSTAMP:20260422T003754Z
URL:https://business.portervillechamber.org/events/details/nasty-habitz-car-bike-show-toy-fundraiser-1458
END:VEVENT

END:VCALENDAR
