BEGIN:VCALENDAR
VERSION:2.0
PRODID:-//ChamberMaster//Event Calendar 2.0//EN
METHOD:PUBLISH
X-PUBLISHED-TTL:P3D
REFRESH-INTERVAL:P3D
CALSCALE:GREGORIAN
BEGIN:VEVENT
DTSTART:20190408T230000Z
DTEND:20190409T000000Z
X-MICROSOFT-CDO-ALLDAYEVENT:FALSE
SUMMARY:National Library Week- Craft-Clay Key chains
DESCRIPTION:
X-ALT-DESC;FMTTYPE=text/html:
LOCATION:Porterville City Library 41 W. Thurman Ave.
UID:e.2225.1937
SEQUENCE:3
DTSTAMP:20260421T140851Z
URL:https://business.portervillechamber.org/events/details/national-library-week-craft-clay-key-chains-1937
END:VEVENT

END:VCALENDAR
