BEGIN:VCALENDAR
VERSION:2.0
PRODID:-//ChamberMaster//Event Calendar 2.0//EN
METHOD:PUBLISH
X-PUBLISHED-TTL:P3D
REFRESH-INTERVAL:P3D
CALSCALE:GREGORIAN
BEGIN:VEVENT
DTSTART:20190913T000000Z
DTEND:20190913T050000Z
X-MICROSOFT-CDO-ALLDAYEVENT:FALSE
SUMMARY:NFL Football Kick- Off Casino Night
DESCRIPTION:Knights of Columbus invites you to a NFL Football Kick-Off Casino Night at Eagle Mountain Casino. You will all meet at Giovanni Pizzeria & Arcade at 5 pm and the bus will depart to Eagle Mountain Casino at 6 pm. For more information regarding the details\, please look at the flyer provided.
X-ALT-DESC;FMTTYPE=text/html:Knights of Columbus invites you to a NFL Football Kick-Off Casino Night at Eagle Mountain Casino. You will all meet at Giovanni Pizzeria &amp\; Arcade at 5 pm and the bus will depart to Eagle Mountain Casino at 6 pm. For more information regarding the details\, please look at the flyer provided.&nbsp\;
LOCATION:Meet at Giovanni Pizzeria & Arcade 45 N. 2nd St. Porterville\, CA 93257
UID:e.2225.2013
SEQUENCE:3
DTSTAMP:20260421T054542Z
URL:https://business.portervillechamber.org/events/details/nfl-football-kick-off-casino-night-2013
END:VEVENT

END:VCALENDAR
