BEGIN:VCALENDAR
VERSION:2.0
PRODID:-//ChamberMaster//Event Calendar 2.0//EN
METHOD:PUBLISH
X-PUBLISHED-TTL:P3D
REFRESH-INTERVAL:P3D
CALSCALE:GREGORIAN
BEGIN:VEVENT
DTSTART:20200118T020000Z
DTEND:20200118T050000Z
X-MICROSOFT-CDO-ALLDAYEVENT:FALSE
SUMMARY:Night in Italy
DESCRIPTION:Pierpoint Bar & Grill is hosting a Night in Italy! Dine from an Italian Menu and enjoy Pierpoint Bar & Grill's new selection of beer and wine. Desserts will be available for purchase\, and Patti Torrey will provide live music. RSVP is required. Please call 559-483-9110 for reserve your seating today.
X-ALT-DESC;FMTTYPE=text/html:<p dir="ltr" style="line-height:1.38\;margin-top:0pt\;margin-bottom:0pt\;"><span id="docs-internal-guid-1db41c3d-7fff-3452-e366-5ecc7ba20a38"><span style="font-size: 11pt\; font-family: Arial\; color: rgb(68\, 68\, 68)\; font-variant-numeric: normal\; font-variant-east-asian: normal\; vertical-align: baseline\; white-space: pre-wrap\;">Pierpoint Bar &amp\; Grill is hosting a Night in Italy! Dine from an Italian Menu and enjoy Pierpoint Bar &amp\; Grill&rsquo\;s new selection of beer and wine. Desserts will be available for purchase\, and Patti Torrey will provide live music. RSVP is required. Please call 559-483-9110 for reserve your seating today.</span></span></p>\n
LOCATION:Pierpoint Bar & Grill 801 CA-190\, Springville\, CA 93265 Pierpoint is in the Sequoia National Forest and 40 minutes up Highway 190 east of Springville.
UID:e.2225.2116
SEQUENCE:3
DTSTAMP:20260420T235457Z
URL:https://business.portervillechamber.org/events/details/night-in-italy-2116
END:VEVENT

END:VCALENDAR
