BEGIN:VCALENDAR
VERSION:2.0
PRODID:-//ChamberMaster//Event Calendar 2.0//EN
METHOD:PUBLISH
X-PUBLISHED-TTL:P3D
REFRESH-INTERVAL:P3D
CALSCALE:GREGORIAN
BEGIN:VEVENT
DTSTART:20181226T150000Z
DTEND:20181226T163000Z
X-MICROSOFT-CDO-ALLDAYEVENT:FALSE
SUMMARY:No Chamber Board of Directors Meeting This Month
DESCRIPTION:Chamber Board of Directors Meeting
X-ALT-DESC;FMTTYPE=text/html:Chamber Board of Directors Meeting
LOCATION:Chamber Conference Room 93 N Main Street\, Suite A
UID:e.2225.1280
SEQUENCE:3
DTSTAMP:20260421T211814Z
URL:https://business.portervillechamber.org/events/details/no-chamber-board-of-directors-meeting-this-month-1280
END:VEVENT

END:VCALENDAR
