BEGIN:VCALENDAR
VERSION:2.0
PRODID:-//ChamberMaster//Event Calendar 2.0//EN
METHOD:PUBLISH
X-PUBLISHED-TTL:P3D
REFRESH-INTERVAL:P3D
CALSCALE:GREGORIAN
BEGIN:VEVENT
DTSTART:20190104T150000Z
DTEND:20190104T161500Z
X-MICROSOFT-CDO-ALLDAYEVENT:FALSE
SUMMARY:No First Friday Coffee This Month
DESCRIPTION:
X-ALT-DESC;FMTTYPE=text/html:
LOCATION:Galaxy 9 Theartre\, 631 North Indiana
UID:e.2225.1803
SEQUENCE:3
DTSTAMP:20260421T211115Z
URL:https://business.portervillechamber.org/events/details/no-first-friday-coffee-this-month-1803
END:VEVENT

END:VCALENDAR
