BEGIN:VCALENDAR
VERSION:2.0
PRODID:-//ChamberMaster//Event Calendar 2.0//EN
METHOD:PUBLISH
X-PUBLISHED-TTL:P3D
REFRESH-INTERVAL:P3D
CALSCALE:GREGORIAN
BEGIN:VEVENT
DTSTART:20191117T020000Z
DTEND:20191117T040000Z
X-MICROSOFT-CDO-ALLDAYEVENT:FALSE
SUMMARY:November Paint Night
DESCRIPTION:The Imagine Community Arts Center is hosting a Paint Night at their location from 6:00 - 8:00 p.m. on Saturday\, November 16th. \n\nFor more information\, visit their website!
X-ALT-DESC;FMTTYPE=text/html:The Imagine Community Arts Center is hosting a Paint Night at their location from 6:00 - 8:00 p.m. on Saturday\, November 16th.&nbsp\;<br />\nFor more information\, visit their website!&nbsp\;
LOCATION:Imagine Community Arts Center 93 N. Main Street\, Suite D Porterville\, CA 93257
UID:e.2225.2084
SEQUENCE:3
DTSTAMP:20260421T015030Z
URL:https://business.portervillechamber.org/events/details/november-paint-night-2084
END:VEVENT

END:VCALENDAR
