BEGIN:VCALENDAR
VERSION:2.0
PRODID:-//ChamberMaster//Event Calendar 2.0//EN
METHOD:PUBLISH
X-PUBLISHED-TTL:P3D
REFRESH-INTERVAL:P3D
CALSCALE:GREGORIAN
BEGIN:VEVENT
DTSTART;VALUE=DATE:20181112
DTEND;VALUE=DATE:20181113
TRANSP:TRANSPARENT
X-MICROSOFT-CDO-ALLDAYEVENT:TRUE
SUMMARY:Office Closed
DESCRIPTION:The Porterville Chamber OF Commerce office will be closed.
X-ALT-DESC;FMTTYPE=text/html:The Porterville Chamber OF Commerce office will be closed.
LOCATION:
UID:e.2225.1833
SEQUENCE:3
DTSTAMP:20260421T225050Z
URL:https://business.portervillechamber.org/events/details/office-closed-1833
END:VEVENT

END:VCALENDAR
