BEGIN:VCALENDAR
VERSION:2.0
PRODID:-//ChamberMaster//Event Calendar 2.0//EN
METHOD:PUBLISH
X-PUBLISHED-TTL:P3D
REFRESH-INTERVAL:P3D
CALSCALE:GREGORIAN
BEGIN:VEVENT
DTSTART;VALUE=DATE:20181122
DTEND;VALUE=DATE:20181123
TRANSP:TRANSPARENT
X-MICROSOFT-CDO-ALLDAYEVENT:TRUE
SUMMARY:Office Closed For Thanksgiving
DESCRIPTION:The Porterville Chamber Of Commerce will be closed this Thursday and Friday. We will be open again Monday at 9 a.m.
X-ALT-DESC;FMTTYPE=text/html:The Porterville Chamber Of Commerce will be closed this Thursday and Friday. We will be open again Monday at 9 a.m.
LOCATION:
UID:e.2225.1844
SEQUENCE:3
DTSTAMP:20260422T003323Z
URL:https://business.portervillechamber.org/events/details/office-closed-for-thanksgiving-1844
END:VEVENT

END:VCALENDAR
