BEGIN:VCALENDAR
VERSION:2.0
PRODID:-//ChamberMaster//Event Calendar 2.0//EN
METHOD:PUBLISH
X-PUBLISHED-TTL:P3D
REFRESH-INTERVAL:P3D
CALSCALE:GREGORIAN
BEGIN:VEVENT
DTSTART:20200313T003000Z
DTEND:20200313T020000Z
X-MICROSOFT-CDO-ALLDAYEVENT:FALSE
SUMMARY:Open House: First Congregational Church
DESCRIPTION:The First Congregational Church will hold an Open House and allow for fellowship and support. There will be appetizers and beverages provided by the Church.
X-ALT-DESC;FMTTYPE=text/html:<p dir="ltr" style="line-height: 1.38\; margin-top: 0pt\; margin-bottom: 0pt\;"><span id="docs-internal-guid-fe5fe4ea-7fff-914d-3bf8-9cefb3218389"><span style="font-size: 10.5pt\; font-family: Arial\; color: rgb(28\, 30\, 33)\; font-variant-numeric: normal\; font-variant-east-asian: normal\; vertical-align: baseline\; white-space: pre-wrap\;">The First Congregational Church will hold an Open House and allow for fellowship and support. There will be appetizers and beverages provided by the Church.</span></span></p>\n
LOCATION:First Congregational Church 165 E. Mill Avenue\, Porterville\, CA 93257 (Enter through 4th Street Entrance)
UID:e.2225.2143
SEQUENCE:3
DTSTAMP:20260420T184159Z
URL:https://business.portervillechamber.org/events/details/open-house-first-congregational-church-2143
END:VEVENT

END:VCALENDAR
