BEGIN:VCALENDAR
VERSION:2.0
PRODID:-//ChamberMaster//Event Calendar 2.0//EN
METHOD:PUBLISH
X-PUBLISHED-TTL:P3D
REFRESH-INTERVAL:P3D
CALSCALE:GREGORIAN
BEGIN:VEVENT
DTSTART:20230422T040000Z
DTEND:20230422T065500Z
X-MICROSOFT-CDO-ALLDAYEVENT:FALSE
SUMMARY:Open Mic Friday at Landing 13!
DESCRIPTION:Open Mic Friday is back at Landing 13 this Friday April 21st at 9PM! Hosted by Matthew Bailey. Bring your friends and family members to cheer you on as you take the Landing 13 stage!
X-ALT-DESC;FMTTYPE=text/html:Open Mic Friday is back at Landing 13 this Friday April 21st at 9PM! Hosted by Matthew Bailey. Bring your friends and family members to cheer you on as you take the Landing 13 stage!
LOCATION:152 N. Hockett St. Porterville\, CA 93257
UID:e.2225.2476
SEQUENCE:3
DTSTAMP:20260424T134951Z
URL:https://business.portervillechamber.org/events/details/open-mic-friday-at-landing-13-04-21-2023-2476
END:VEVENT

END:VCALENDAR
