BEGIN:VCALENDAR
VERSION:2.0
PRODID:-//ChamberMaster//Event Calendar 2.0//EN
METHOD:PUBLISH
X-PUBLISHED-TTL:P3D
REFRESH-INTERVAL:P3D
CALSCALE:GREGORIAN
BEGIN:VEVENT
DTSTART:20190626T003000Z
DTEND:20190626T030000Z
X-MICROSOFT-CDO-ALLDAYEVENT:FALSE
SUMMARY:OsteoStrong Ribbon Cutting
DESCRIPTION:Enjoy taco Tuesday (taco truck) from 5:30 to 7 with a  Ribbon Cutting at 6. They will also be raffling off prizes for free massages and a chiropractic session at Missakian Spine Care\, free month memberships with OsteoStrong\, Meat packages from red house beef\, etc.\n\nThe owners will give a little talk and demo of what they do and then will give the opportunity for people to book their first session.
X-ALT-DESC;FMTTYPE=text/html:<span style="color: rgb(34\, 34\, 34)\; font-family: Arial\, Helvetica\, sans-serif\; font-size: small\; background-color: rgb(255\, 255\, 255)\;">Enjoy taco Tuesday (taco truck) from 5:30 to 7 with a&nbsp\; Ribbon Cutting at 6. They will also be raffling off prizes for free massages and a chiropractic session at Missakian Spine Care\, free month memberships with OsteoStrong\, Meat packages from red house beef\, etc.</span><br style="color: rgb(34\, 34\, 34)\; font-family: Arial\, Helvetica\, sans-serif\; font-size: small\; background-color: rgb(255\, 255\, 255)\;" />\n<span style="color: rgb(34\, 34\, 34)\; font-family: Arial\, Helvetica\, sans-serif\; font-size: small\; background-color: rgb(255\, 255\, 255)\;">The owners will give a little talk and demo of what they do and then will give the opportunity for people to book their first session.</span><br style="color: rgb(34\, 34\, 34)\; font-family: Arial\, Helvetica\, sans-serif\; font-size: small\; background-color: rgb(255\, 255\, 255)\;" />\n<br style="color: rgb(34\, 34\, 34)\; font-family: Arial\, Helvetica\, sans-serif\; font-size: small\; background-color: rgb(255\, 255\, 255)\;" />\n&nbsp\;
LOCATION:1570 W. Olive Ave. Porterville\, CA 93257
UID:e.2225.1984
SEQUENCE:3
DTSTAMP:20260421T110353Z
URL:https://business.portervillechamber.org/events/details/osteostrong-ribbon-cutting-1984
END:VEVENT

END:VCALENDAR
